Workbook

Sheet Ficha Tecnica
C5: Organizador
C6: Director
C7: Fecha
C11: Discovery - Light | G11: Challenge - Promocional | K11: Endurance - Aventura
C12: Kilometraje Total | G12: Kilometraje Total | K12: Kilometraje Total
C13: Total de Puestos | G13: Total de Puestos | K13: Total de Puestos
C14: Hora de Inicio | D14: 45339.344 | G14: Hora de Inicio | H14: 45339.344 | K14: Hora de Inicio | L14: 45339.344
C15: Corredores inscriptos | G15: Corredores inscriptos | K15: Corredores inscriptos
C16: Corredores finishers | G16: Corredores finishers | K16: Corredores finishers
C17: Monto Recaudado | G17: Monto Recaudado | K17: Monto Recaudado
C18: Canon | D18: =+D17*0.1 -> 0 | G18: Canon | H18: =+H17*0.1 -> 0 | K18: Canon | L18: =+L17*0.1 -> 0
J20: Indicadores de Carreras de Aventura
K21: Monto Recaudado | L21: =+D29+H17+D17+H29+L17 -> 0
K22: Monto Canon | L22: =+D30+H18+D18+H30+L18 -> 0
C23: Expedicion | G23: Treking | K23: Multa | L23: 0
C24: Kilometraje Total | G24: Kilometraje Total | K24: Total Ingresos | L24: =+L23+L22 -> 0
C25: Total de Puestos | G25: Total de Puestos | K25: Inversion por carrera
C26: Hora de Inicio | D26: 45339.344 | G26: Hora de Inicio | H26: 45339.344 | K26: Fotografia
C27: Corredores inscriptos | G27: Corredores inscriptos | K27: GPS
C28: Corredores finishers | G28: Corredores finishers | K28: Redes Sociales
C29: Monto Recaudado | G29: Monto Recaudado | L29: =SUM(L25:L28) -> 0
C30: Canon | D30: =+D29*0.1 -> 0 | G30: Canon | H30: =+H29*0.1 -> 0 | K30: Resultado de la carrera | L30: =+L24-L29 -> 0

Sheet Expedicion
B1: * Llenar las celdas blancas
B2: * Largada y llegada completar con fecha y hora
B3: * "Puestos" Mencionar los puestos que completo el equipo
B4: * "Comentarios" Informacion relevante a la carrera
B5: * Favor no modificar la planilla, si el equipo tiene dos integrantes no borrar las celdas restantes
B7: Conformacion
B8: Mixto = 1 | D8: Organizador | E8: =+'Ficha Tecnica'!D5 -> 0
B9: General = 0 | D9: Categoria | E9: Expedicion | I9: Largada | J9: 45341
I10: Hora de llegada F2
B11: Posicion F1 | C11: Puntos | D11: Conformacion | E11: Nombre del Equipo | F11: Integrantes | G11: Cant. | H11: Presento foto | I11: Llegada | J11: Tiempo de carrera | K11: Coeficiente | L11: Categoria F3 | M11: N° Integrantes F4 | N11: Conformacion F5 | O11: Equipo | P11: Puestos | Q11: Cometarios
B12: 1 | C12: 100 | D12: 1 | E12: Nombre del Equipo | F12: Integrante 1 | G12: =COUNTA(F12:F15) -> 4 | H12: si | I12: 45341.385 | J12: =+I12-J9 -> 0.38541667 | K12: =+(J12/J12)*100 -> 100 | L12: 3 | M12: =IF(G12=4,1.5,0)+IF(G12=3,1.3,0)+IF(G12=2,1,0) -> 1.5 | N12: =IF(D12=1,1.3,1) -> 1.3 | O12: =+C12+(K12*L12*M12*N12) -> 685
F13: Integrante 2
F14: Integrante 3
F15: Integrante 4
B16: =+B12+1 -> 2 | C16: 85 | D16: 1 | E16: Nombre del Equipo | F16: Integrante 1 | G16: =COUNTA(F16:F19) -> 4 | H16: si | I16: 45341.427 | J16: =+I16-$J$9 -> 0.42708333 | K16: =+($J$12/J16)*100 -> 90.243902 | L16: 3 | M16: =IF(G16=4,1.5,0)+IF(G16=3,1.3,0)+IF(G16=2,1,0) -> 1.5 | N16: =IF(D16=1,1.3,1) -> 1.3 | O16: =+C16+(K16*L16*M16*N16) -> 612.92683
F17: Integrante 2
F18: Integrante 3
F19: Integrante 4
B20: =+B16+1 -> 3 | C20: 73 | D20: 1 | E20: Nombre del Equipo | F20: Integrante 1 | G20: =COUNTA(F20:F23) -> 4 | H20: si | I20: 45341.594 | J20: =+I20-$J$9 -> 0.59375 | K20: =+($J$12/J20)*100 -> 64.912281 | L20: 3 | M20: =IF(G20=4,1.5,0)+IF(G20=3,1.3,0)+IF(G20=2,1,0) -> 1.5 | N20: =IF(D20=1,1.3,1) -> 1.3 | O20: =+C20+(K20*L20*M20*N20) -> 452.73684
F21: Integrante 2
F22: Integrante 3
F23: Integrante 4
B24: =+B20+1 -> 4 | C24: 63 | D24: 1 | E24: Nombre del Equipo | F24: Integrante 1 | G24: =COUNTA(F24:F27) -> 4 | H24: si | I24: 45341.594 | J24: =+I24-$J$9 -> 0.59375 | K24: =+($J$12/J24)*100 -> 64.912281 | L24: 3 | M24: =IF(G24=4,1.5,0)+IF(G24=3,1.3,0)+IF(G24=2,1,0) -> 1.5 | N24: =IF(D24=1,1.3,1) -> 1.3 | O24: =+C24+(K24*L24*M24*N24) -> 442.73684
F25: Integrante 2
F26: Integrante 3
F27: Integrante 4
B28: =+B24+1 -> 5 | C28: 55 | D28: 1 | E28: Nombre del Equipo | F28: Integrante 1 | G28: =COUNTA(F28:F31) -> 4 | H28: si | I28: 45341.594 | J28: =+I28-$J$9 -> 0.59375 | K28: =+($J$12/J28)*100 -> 64.912281 | L28: 3 | M28: =IF(G28=4,1.5,0)+IF(G28=3,1.3,0)+IF(G28=2,1,0) -> 1.5 | N28: =IF(D28=1,1.3,1) -> 1.3 | O28: =+C28+(K28*L28*M28*N28) -> 434.73684
F29: Integrante 2
F30: Integrante 3
F31: Integrante 4
B32: =+B28+1 -> 6 | C32: 50 | D32: 1 | E32: Nombre del Equipo | F32: Integrante 1 | G32: =COUNTA(F32:F35) -> 4 | H32: si | I32: 45341.594 | J32: =+I32-$J$9 -> 0.59375 | K32: =+($J$12/J32)*100 -> 64.912281 | L32: 3 | M32: =IF(G32=4,1.5,0)+IF(G32=3,1.3,0)+IF(G32=2,1,0) -> 1.5 | N32: =IF(D32=1,1.3,1) -> 1.3 | O32: =+C32+(K32*L32*M32*N32) -> 429.73684
F33: Integrante 2
F34: Integrante 3
F35: Integrante 4
B36: =+B32+1 -> 7 | C36: 45 | D36: 0 | E36: Nombre del Equipo | F36: Integrante 1 | G36: =COUNTA(F36:F39) -> 4 | H36: si | I36: 45341.594 | J36: =+I36-$J$9 -> 0.59375 | K36: =+($J$12/J36)*100 -> 64.912281 | L36: 3 | M36: =IF(G36=4,1.5,0)+IF(G36=3,1.3,0)+IF(G36=2,1,0) -> 1.5 | N36: =IF(D36=1,1.3,1) -> 1 | O36: =+C36+(K36*L36*M36*N36) -> 337.10526
F37: Integrante 2
F38: Integrante 3
F39: Integrante 4
B40: =+B36+1 -> 8 | C40: 40 | D40: 0 | E40: Nombre del Equipo | F40: Integrante 1 | G40: =COUNTA(F40:F43) -> 4 | H40: si | I40: 45341.594 | J40: =+I40-$J$9 -> 0.59375 | K40: =+($J$12/J40)*100 -> 64.912281 | L40: 3 | M40: =IF(G40=4,1.5,0)+IF(G40=3,1.3,0)+IF(G40=2,1,0) -> 1.5 | N40: =IF(D40=1,1.3,1) -> 1 | O40: =+C40+(K40*L40*M40*N40) -> 332.10526
F41: Integrante 2
...

Sheet Endurance - Aventura
B1: * Llenar las celdas blancas
B2: * Largada y llegada completar con fecha y hora
B3: * "Puestos" Mencionar los puestos que completo el equipo
B4: * "Comentarios" Informacion relevante a la carrera
B5: * Favor no modificar la planilla, si el equipo tiene dos integrantes no borrar las celdas restantes
B7: Conformacion
B8: Mixto = 1 | D8: Organizador | E8: =+'Ficha Tecnica'!D5 -> 0
B9: General = 0 | D9: Categoria | E9: Aventura | I9: Largada | J9: 45341
I10: Hora de llegada F2
B11: Posicion F1 | C11: Puntos | D11: Conformacion | E11: Nombre del Equipo | F11: Integrantes | G11: Cant. | H11: Presento foto | I11: Llegada | J11: Tiempo de carrera | K11: Coeficiente | L11: Categoria F3 | M11: N° Integrantes F4 | N11: Conformacion F5 | O11: Equipo | P11: Puestos | Q11: Cometarios
B12: 1 | C12: 100 | D12: 1 | E12: Nombre del Equipo | F12: Integrante 1 | G12: =COUNTA(F12:F15) -> 4 | H12: si | I12: 45341.385 | J12: =+I12-J9 -> 0.38541667 | K12: =+(J12/J12)*100 -> 100 | L12: 3 | M12: =IF(G12=4,1.5,0)+IF(G12=3,1.3,0)+IF(G12=2,1,0) -> 1.5 | N12: =IF(D12=1,1.3,1) -> 1.3 | O12: =+C12+(K12*L12*M12*N12) -> 685
F13: Integrante 2
F14: Integrante 3
F15: Integrante 4
B16: =+B12+1 -> 2 | C16: 85 | D16: 1 | E16: Nombre del Equipo | F16: Integrante 1 | G16: =COUNTA(F16:F19) -> 4 | H16: si | I16: 45341.427 | J16: =+I16-$J$9 -> 0.42708333 | K16: =+($J$12/J16)*100 -> 90.243902 | L16: 3 | M16: =IF(G16=4,1.5,0)+IF(G16=3,1.3,0)+IF(G16=2,1,0) -> 1.5 | N16: =IF(D16=1,1.3,1) -> 1.3 | O16: =+C16+(K16*L16*M16*N16) -> 612.92683
F17: Integrante 2
F18: Integrante 3
F19: Integrante 4
B20: =+B16+1 -> 3 | C20: 73 | D20: 1 | E20: Nombre del Equipo | F20: Integrante 1 | G20: =COUNTA(F20:F23) -> 4 | H20: si | I20: 45341.594 | J20: =+I20-$J$9 -> 0.59375 | K20: =+($J$12/J20)*100 -> 64.912281 | L20: 3 | M20: =IF(G20=4,1.5,0)+IF(G20=3,1.3,0)+IF(G20=2,1,0) -> 1.5 | N20: =IF(D20=1,1.3,1) -> 1.3 | O20: =+C20+(K20*L20*M20*N20) -> 452.73684
F21: Integrante 2
F22: Integrante 3
F23: Integrante 4
B24: =+B20+1 -> 4 | C24: 63 | D24: 1 | E24: Nombre del Equipo | F24: Integrante 1 | G24: =COUNTA(F24:F27) -> 4 | H24: si | I24: 45341.594 | J24: =+I24-$J$9 -> 0.59375 | K24: =+($J$12/J24)*100 -> 64.912281 | L24: 3 | M24: =IF(G24=4,1.5,0)+IF(G24=3,1.3,0)+IF(G24=2,1,0) -> 1.5 | N24: =IF(D24=1,1.3,1) -> 1.3 | O24: =+C24+(K24*L24*M24*N24) -> 442.73684
F25: Integrante 2
F26: Integrante 3
F27: Integrante 4
B28: =+B24+1 -> 5 | C28: 55 | D28: 1 | E28: Nombre del Equipo | F28: Integrante 1 | G28: =COUNTA(F28:F31) -> 4 | H28: si | I28: 45341.594 | J28: =+I28-$J$9 -> 0.59375 | K28: =+($J$12/J28)*100 -> 64.912281 | L28: 3 | M28: =IF(G28=4,1.5,0)+IF(G28=3,1.3,0)+IF(G28=2,1,0) -> 1.5 | N28: =IF(D28=1,1.3,1) -> 1.3 | O28: =+C28+(K28*L28*M28*N28) -> 434.73684
F29: Integrante 2
F30: Integrante 3
F31: Integrante 4
B32: =+B28+1 -> 6 | C32: 50 | D32: 1 | E32: Nombre del Equipo | F32: Integrante 1 | G32: =COUNTA(F32:F35) -> 4 | H32: si | I32: 45341.594 | J32: =+I32-$J$9 -> 0.59375 | K32: =+($J$12/J32)*100 -> 64.912281 | L32: 3 | M32: =IF(G32=4,1.5,0)+IF(G32=3,1.3,0)+IF(G32=2,1,0) -> 1.5 | N32: =IF(D32=1,1.3,1) -> 1.3 | O32: =+C32+(K32*L32*M32*N32) -> 429.73684
F33: Integrante 2
F34: Integrante 3
F35: Integrante 4
B36: =+B32+1 -> 7 | C36: 45 | D36: 0 | E36: Nombre del Equipo | F36: Integrante 1 | G36: =COUNTA(F36:F39) -> 4 | H36: si | I36: 45341.594 | J36: =+I36-$J$9 -> 0.59375 | K36: =+($J$12/J36)*100 -> 64.912281 | L36: 3 | M36: =IF(G36=4,1.5,0)+IF(G36=3,1.3,0)+IF(G36=2,1,0) -> 1.5 | N36: =IF(D36=1,1.3,1) -> 1 | O36: =+C36+(K36*L36*M36*N36) -> 337.10526
F37: Integrante 2
F38: Integrante 3
F39: Integrante 4
B40: =+B36+1 -> 8 | C40: 40 | D40: 0 | E40: Nombre del Equipo | F40: Integrante 1 | G40: =COUNTA(F40:F43) -> 4 | H40: si | I40: 45341.594 | J40: =+I40-$J$9 -> 0.59375 | K40: =+($J$12/J40)*100 -> 64.912281 | L40: 3 | M40: =IF(G40=4,1.5,0)+IF(G40=3,1.3,0)+IF(G40=2,1,0) -> 1.5 | N40: =IF(D40=1,1.3,1) -> 1 | O40: =+C40+(K40*L40*M40*N40) -> 332.10526
F41: Integrante 2
...

Sheet Challenge - Promocional
B1: * Llenar las celdas blancas
B2: * Largada y llegada completar con fecha y hora
B3: * "Puestos" Mencionar los puestos que completo el equipo
B4: * "Comentarios" Informacion relevante a la carrera
B5: * Favor no modificar la planilla, si el equipo tiene dos integrantes no borrar las celdas restantes
B7: Conformacion
B8: Mixto = 1 | D8: Organizador | E8: =+'Ficha Tecnica'!D5 -> 0
B9: General = 0 | D9: Categoria | E9: Promocional | I9: Largada | J9: 45341
I10: Hora de llegada F2
B11: Posicion F1 | C11: Puntos | D11: Conformacion | E11: Nombre del Equipo | F11: Integrantes | G11: Cant. | H11: Presento foto | I11: Llegada | J11: Tiempo de carrera | K11: Coeficiente | L11: Categoria F3 | M11: N° Integrantes F4 | N11: Conformacion F5 | O11: Equipo | P11: Puestos | Q11: Cometarios
B12: 1 | C12: 100 | D12: 1 | E12: Nombre del Equipo | F12: Integrante 1 | G12: =COUNTA(F12:F15) -> 4 | H12: si | I12: 45341.385 | J12: =+I12-J9 -> 0.38541667 | K12: =+(J12/J12)*100 -> 100 | L12: 2 | M12: =IF(G12=4,1.5,0)+IF(G12=3,1.3,0)+IF(G12=2,1,0) -> 1.5 | N12: =IF(D12=1,1.3,1) -> 1.3 | O12: =+C12+(K12*L12*M12*N12) -> 490
F13: Integrante 2
F14: Integrante 3
F15: Integrante 4
B16: =+B12+1 -> 2 | C16: 85 | D16: 1 | E16: Nombre del Equipo | F16: Integrante 1 | G16: =COUNTA(F16:F19) -> 4 | H16: si | I16: 45341.427 | J16: =+I16-$J$9 -> 0.42708333 | K16: =+($J$12/J16)*100 -> 90.243902 | L16: 2 | M16: =IF(G16=4,1.5,0)+IF(G16=3,1.3,0)+IF(G16=2,1,0) -> 1.5 | N16: =IF(D16=1,1.3,1) -> 1.3 | O16: =+C16+(K16*L16*M16*N16) -> 436.95122
F17: Integrante 2
F18: Integrante 3
F19: Integrante 4
B20: =+B16+1 -> 3 | C20: 73 | D20: 1 | E20: Nombre del Equipo | F20: Integrante 1 | G20: =COUNTA(F20:F23) -> 4 | H20: si | I20: 45341.594 | J20: =+I20-$J$9 -> 0.59375 | K20: =+($J$12/J20)*100 -> 64.912281 | L20: 2 | M20: =IF(G20=4,1.5,0)+IF(G20=3,1.3,0)+IF(G20=2,1,0) -> 1.5 | N20: =IF(D20=1,1.3,1) -> 1.3 | O20: =+C20+(K20*L20*M20*N20) -> 326.15789
F21: Integrante 2
F22: Integrante 3
F23: Integrante 4
B24: =+B20+1 -> 4 | C24: 63 | D24: 1 | E24: Nombre del Equipo | F24: Integrante 1 | G24: =COUNTA(F24:F27) -> 4 | H24: si | I24: 45341.594 | J24: =+I24-$J$9 -> 0.59375 | K24: =+($J$12/J24)*100 -> 64.912281 | L24: 2 | M24: =IF(G24=4,1.5,0)+IF(G24=3,1.3,0)+IF(G24=2,1,0) -> 1.5 | N24: =IF(D24=1,1.3,1) -> 1.3 | O24: =+C24+(K24*L24*M24*N24) -> 316.15789
F25: Integrante 2
F26: Integrante 3
F27: Integrante 4
B28: =+B24+1 -> 5 | C28: 55 | D28: 1 | E28: Nombre del Equipo | F28: Integrante 1 | G28: =COUNTA(F28:F31) -> 4 | H28: si | I28: 45341.594 | J28: =+I28-$J$9 -> 0.59375 | K28: =+($J$12/J28)*100 -> 64.912281 | L28: 2 | M28: =IF(G28=4,1.5,0)+IF(G28=3,1.3,0)+IF(G28=2,1,0) -> 1.5 | N28: =IF(D28=1,1.3,1) -> 1.3 | O28: =+C28+(K28*L28*M28*N28) -> 308.15789
F29: Integrante 2
F30: Integrante 3
F31: Integrante 4
B32: =+B28+1 -> 6 | C32: 50 | D32: 1 | E32: Nombre del Equipo | F32: Integrante 1 | G32: =COUNTA(F32:F35) -> 4 | H32: si | I32: 45341.594 | J32: =+I32-$J$9 -> 0.59375 | K32: =+($J$12/J32)*100 -> 64.912281 | L32: 2 | M32: =IF(G32=4,1.5,0)+IF(G32=3,1.3,0)+IF(G32=2,1,0) -> 1.5 | N32: =IF(D32=1,1.3,1) -> 1.3 | O32: =+C32+(K32*L32*M32*N32) -> 303.15789
F33: Integrante 2
F34: Integrante 3
F35: Integrante 4
B36: =+B32+1 -> 7 | C36: 45 | D36: 0 | E36: Nombre del Equipo | F36: Integrante 1 | G36: =COUNTA(F36:F39) -> 4 | H36: si | I36: 45341.594 | J36: =+I36-$J$9 -> 0.59375 | K36: =+($J$12/J36)*100 -> 64.912281 | L36: 2 | M36: =IF(G36=4,1.5,0)+IF(G36=3,1.3,0)+IF(G36=2,1,0) -> 1.5 | N36: =IF(D36=1,1.3,1) -> 1 | O36: =+C36+(K36*L36*M36*N36) -> 239.73684
F37: Integrante 2
F38: Integrante 3
F39: Integrante 4
B40: =+B36+1 -> 8 | C40: 40 | D40: 0 | E40: Nombre del Equipo | F40: Integrante 1 | G40: =COUNTA(F40:F43) -> 4 | H40: si | I40: 45341.594 | J40: =+I40-$J$9 -> 0.59375 | K40: =+($J$12/J40)*100 -> 64.912281 | L40: 2 | M40: =IF(G40=4,1.5,0)+IF(G40=3,1.3,0)+IF(G40=2,1,0) -> 1.5 | N40: =IF(D40=1,1.3,1) -> 1 | O40: =+C40+(K40*L40*M40*N40) -> 234.73684
F41: Integrante 2
...

Sheet Discovery - Light
B1: * Llenar las celdas blancas
B2: * Largada y llegada completar con fecha y hora
B3: * "Puestos" Mencionar los puestos que completo el equipo
B4: * "Comentarios" Informacion relevante a la carrera
B5: * Favor no modificar la planilla, si el equipo tiene dos integrantes no borrar las celdas restantes
B7: Conformacion
B8: Mixto = 1 | D8: Organizador | E8: =+'Ficha Tecnica'!D5 -> 0
B9: General = 0 | D9: Categoria | E9: Light | I9: Largada | J9: 45341
I10: Hora de llegada F2
B11: Posicion F1 | C11: Puntos | D11: Conformacion | E11: Nombre del Equipo | F11: Integrantes | G11: Cant. | H11: Presento foto | I11: Llegada | J11: Tiempo de carrera | K11: Coeficiente | L11: Categoria F3 | M11: N° Integrantes F4 | N11: Conformacion F5 | O11: Equipo | P11: Puestos | Q11: Cometarios
B12: 1 | C12: 100 | D12: 1 | E12: Nombre del Equipo | F12: Integrante 1 | G12: =COUNTA(F12:F15) -> 4 | H12: si | I12: 45341.385 | J12: =+I12-J9 -> 0.38541667 | K12: =+(J12/J12)*100 -> 100 | L12: 1 | M12: =IF(G12=4,1.5,0)+IF(G12=3,1.3,0)+IF(G12=2,1,0) -> 1.5 | N12: =IF(D12=1,1.3,1) -> 1.3 | O12: =+C12+(K12*L12*M12*N12) -> 295
F13: Integrante 2
F14: Integrante 3
F15: Integrante 4
B16: =+B12+1 -> 2 | C16: 85 | D16: 1 | E16: Nombre del Equipo | F16: Integrante 1 | G16: =COUNTA(F16:F19) -> 4 | H16: si | I16: 45341.427 | J16: =+I16-$J$9 -> 0.42708333 | K16: =+($J$12/J16)*100 -> 90.243902 | L16: 1 | M16: =IF(G16=4,1.5,0)+IF(G16=3,1.3,0)+IF(G16=2,1,0) -> 1.5 | N16: =IF(D16=1,1.3,1) -> 1.3 | O16: =+C16+(K16*L16*M16*N16) -> 260.97561
F17: Integrante 2
F18: Integrante 3
F19: Integrante 4
B20: =+B16+1 -> 3 | C20: 73 | D20: 1 | E20: Nombre del Equipo | F20: Integrante 1 | G20: =COUNTA(F20:F23) -> 4 | H20: si | I20: 45341.594 | J20: =+I20-$J$9 -> 0.59375 | K20: =+($J$12/J20)*100 -> 64.912281 | L20: 1 | M20: =IF(G20=4,1.5,0)+IF(G20=3,1.3,0)+IF(G20=2,1,0) -> 1.5 | N20: =IF(D20=1,1.3,1) -> 1.3 | O20: =+C20+(K20*L20*M20*N20) -> 199.57895
F21: Integrante 2
F22: Integrante 3
F23: Integrante 4
B24: =+B20+1 -> 4 | C24: 63 | D24: 1 | E24: Nombre del Equipo | F24: Integrante 1 | G24: =COUNTA(F24:F27) -> 4 | H24: si | I24: 45341.594 | J24: =+I24-$J$9 -> 0.59375 | K24: =+($J$12/J24)*100 -> 64.912281 | L24: 1 | M24: =IF(G24=4,1.5,0)+IF(G24=3,1.3,0)+IF(G24=2,1,0) -> 1.5 | N24: =IF(D24=1,1.3,1) -> 1.3 | O24: =+C24+(K24*L24*M24*N24) -> 189.57895
F25: Integrante 2
F26: Integrante 3
F27: Integrante 4
B28: =+B24+1 -> 5 | C28: 55 | D28: 1 | E28: Nombre del Equipo | F28: Integrante 1 | G28: =COUNTA(F28:F31) -> 4 | H28: si | I28: 45341.594 | J28: =+I28-$J$9 -> 0.59375 | K28: =+($J$12/J28)*100 -> 64.912281 | L28: 1 | M28: =IF(G28=4,1.5,0)+IF(G28=3,1.3,0)+IF(G28=2,1,0) -> 1.5 | N28: =IF(D28=1,1.3,1) -> 1.3 | O28: =+C28+(K28*L28*M28*N28) -> 181.57895
F29: Integrante 2
F30: Integrante 3
F31: Integrante 4
B32: =+B28+1 -> 6 | C32: 50 | D32: 1 | E32: Nombre del Equipo | F32: Integrante 1 | G32: =COUNTA(F32:F35) -> 4 | H32: si | I32: 45341.594 | J32: =+I32-$J$9 -> 0.59375 | K32: =+($J$12/J32)*100 -> 64.912281 | L32: 1 | M32: =IF(G32=4,1.5,0)+IF(G32=3,1.3,0)+IF(G32=2,1,0) -> 1.5 | N32: =IF(D32=1,1.3,1) -> 1.3 | O32: =+C32+(K32*L32*M32*N32) -> 176.57895
F33: Integrante 2
F34: Integrante 3
F35: Integrante 4
B36: =+B32+1 -> 7 | C36: 45 | D36: 0 | E36: Nombre del Equipo | F36: Integrante 1 | G36: =COUNTA(F36:F39) -> 4 | H36: si | I36: 45341.594 | J36: =+I36-$J$9 -> 0.59375 | K36: =+($J$12/J36)*100 -> 64.912281 | L36: 1 | M36: =IF(G36=4,1.5,0)+IF(G36=3,1.3,0)+IF(G36=2,1,0) -> 1.5 | N36: =IF(D36=1,1.3,1) -> 1 | O36: =+C36+(K36*L36*M36*N36) -> 142.36842
F37: Integrante 2
F38: Integrante 3
F39: Integrante 4
B40: =+B36+1 -> 8 | C40: 40 | D40: 0 | E40: Nombre del Equipo | F40: Integrante 1 | G40: =COUNTA(F40:F43) -> 4 | H40: si | I40: 45341.594 | J40: =+I40-$J$9 -> 0.59375 | K40: =+($J$12/J40)*100 -> 64.912281 | L40: 1 | M40: =IF(G40=4,1.5,0)+IF(G40=3,1.3,0)+IF(G40=2,1,0) -> 1.5 | N40: =IF(D40=1,1.3,1) -> 1 | O40: =+C40+(K40*L40*M40*N40) -> 137.36842
F41: Integrante 2
...

Sheet Treking
B1: * Llenar las celdas blancas
B2: * Largada y llegada completar con fecha y hora
B3: * "Puestos" Mencionar los puestos que completo el equipo
B4: * "Comentarios" Informacion relevante a la carrera
B5: * Favor no modificar la planilla, si el equipo tiene dos integrantes no borrar las celdas restantes
B7: Conformacion
B8: Mixto = 1 | D8: Organizador | E8: =+'Ficha Tecnica'!D5 -> 0
B9: General = 0 | D9: Categoria | E9: Light | I9: Largada | J9: 45341
I10: Hora de llegada F2
B11: Posicion F1 | C11: Puntos | D11: Conformacion | E11: Nombre del Equipo | F11: Integrantes | G11: Cant. | H11: Presento foto | I11: Llegada | J11: Tiempo de carrera | K11: Coeficiente | L11: Categoria F3 | M11: N° Integrantes F4 | N11: Conformacion F5 | O11: Equipo | P11: Puestos | Q11: Cometarios
B12: 1 | C12: 100 | D12: 1 | E12: Nombre del Equipo | F12: Integrante 1 | G12: =COUNTA(F12:F15) -> 4 | H12: si | I12: 45341.385 | J12: =+I12-J9 -> 0.38541667 | K12: =+(J12/J12)*100 -> 100 | L12: 1 | M12: =IF(G12=4,1.5,0)+IF(G12=3,1.3,0)+IF(G12=2,1,0) -> 1.5 | N12: =IF(D12=1,1.3,1) -> 1.3 | O12: =+C12+(K12*L12*M12*N12) -> 295
F13: Integrante 2
F14: Integrante 3
F15: Integrante 4
B16: =+B12+1 -> 2 | C16: 85 | D16: 1 | E16: Nombre del Equipo | F16: Integrante 1 | G16: =COUNTA(F16:F19) -> 4 | H16: si | I16: 45341.427 | J16: =+I16-$J$9 -> 0.42708333 | K16: =+($J$12/J16)*100 -> 90.243902 | L16: 1 | M16: =IF(G16=4,1.5,0)+IF(G16=3,1.3,0)+IF(G16=2,1,0) -> 1.5 | N16: =IF(D16=1,1.3,1) -> 1.3 | O16: =+C16+(K16*L16*M16*N16) -> 260.97561
F17: Integrante 2
F18: Integrante 3
F19: Integrante 4
B20: =+B16+1 -> 3 | C20: 73 | D20: 1 | E20: Nombre del Equipo | F20: Integrante 1 | G20: =COUNTA(F20:F23) -> 4 | H20: si | I20: 45341.594 | J20: =+I20-$J$9 -> 0.59375 | K20: =+($J$12/J20)*100 -> 64.912281 | L20: 1 | M20: =IF(G20=4,1.5,0)+IF(G20=3,1.3,0)+IF(G20=2,1,0) -> 1.5 | N20: =IF(D20=1,1.3,1) -> 1.3 | O20: =+C20+(K20*L20*M20*N20) -> 199.57895
F21: Integrante 2
F22: Integrante 3
F23: Integrante 4
B24: =+B20+1 -> 4 | C24: 63 | D24: 1 | E24: Nombre del Equipo | F24: Integrante 1 | G24: =COUNTA(F24:F27) -> 4 | H24: si | I24: 45341.594 | J24: =+I24-$J$9 -> 0.59375 | K24: =+($J$12/J24)*100 -> 64.912281 | L24: 1 | M24: =IF(G24=4,1.5,0)+IF(G24=3,1.3,0)+IF(G24=2,1,0) -> 1.5 | N24: =IF(D24=1,1.3,1) -> 1.3 | O24: =+C24+(K24*L24*M24*N24) -> 189.57895
F25: Integrante 2
F26: Integrante 3
F27: Integrante 4
B28: =+B24+1 -> 5 | C28: 55 | D28: 1 | E28: Nombre del Equipo | F28: Integrante 1 | G28: =COUNTA(F28:F31) -> 4 | H28: si | I28: 45341.594 | J28: =+I28-$J$9 -> 0.59375 | K28: =+($J$12/J28)*100 -> 64.912281 | L28: 1 | M28: =IF(G28=4,1.5,0)+IF(G28=3,1.3,0)+IF(G28=2,1,0) -> 1.5 | N28: =IF(D28=1,1.3,1) -> 1.3 | O28: =+C28+(K28*L28*M28*N28) -> 181.57895
F29: Integrante 2
F30: Integrante 3
F31: Integrante 4
B32: =+B28+1 -> 6 | C32: 50 | D32: 1 | E32: Nombre del Equipo | F32: Integrante 1 | G32: =COUNTA(F32:F35) -> 4 | H32: si | I32: 45341.594 | J32: =+I32-$J$9 -> 0.59375 | K32: =+($J$12/J32)*100 -> 64.912281 | L32: 1 | M32: =IF(G32=4,1.5,0)+IF(G32=3,1.3,0)+IF(G32=2,1,0) -> 1.5 | N32: =IF(D32=1,1.3,1) -> 1.3 | O32: =+C32+(K32*L32*M32*N32) -> 176.57895
F33: Integrante 2
F34: Integrante 3
F35: Integrante 4
B36: =+B32+1 -> 7 | C36: 45 | D36: 0 | E36: Nombre del Equipo | F36: Integrante 1 | G36: =COUNTA(F36:F39) -> 4 | H36: si | I36: 45341.594 | J36: =+I36-$J$9 -> 0.59375 | K36: =+($J$12/J36)*100 -> 64.912281 | L36: 1 | M36: =IF(G36=4,1.5,0)+IF(G36=3,1.3,0)+IF(G36=2,1,0) -> 1.5 | N36: =IF(D36=1,1.3,1) -> 1 | O36: =+C36+(K36*L36*M36*N36) -> 142.36842
F37: Integrante 2
F38: Integrante 3
F39: Integrante 4
B40: =+B36+1 -> 8 | C40: 40 | D40: 0 | E40: Nombre del Equipo | F40: Integrante 1 | G40: =COUNTA(F40:F43) -> 4 | H40: si | I40: 45341.594 | J40: =+I40-$J$9 -> 0.59375 | K40: =+($J$12/J40)*100 -> 64.912281 | L40: 1 | M40: =IF(G40=4,1.5,0)+IF(G40=3,1.3,0)+IF(G40=2,1,0) -> 1.5 | N40: =IF(D40=1,1.3,1) -> 1 | O40: =+C40+(K40*L40*M40*N40) -> 137.36842
F41: Integrante 2
...
